BEGIN:VCALENDAR
VERSION:2.0
PRODID:-//eventon.com NONSGML v1.0//EN
CALSCALE:GREGORIAN
METHOD:PUBLISH
BEGIN:VEVENT
UID:69e8177a25eac
DTSTAMP:20260422T003402Z
DTSTART:20250917T230000Z
DTEND:20250918T003000Z
LOCATION:PAINT:LAB 1453 14th Street
SUMMARY:After School Workshop (Mixed Media)
DESCRIPTION:Online registration closes 24 hours before event; if registrati
 on has ended online\,  please give us a call (310) 450-9200 .. We may still
  have space 🙂 Now offering After School Workshop packages! Daily Drop-In
 : $40 ~ One Week (Mon-Fri): $180 ~ Once a Week/One Semester (6 Weeks): $220
  ~ Twice[..]\nhttps://paintlab.net/eventon/after-school-workshop-in-studio/
 var/ri-2.l-L1
URL:https://paintlab.net/eventon/after-school-workshop-in-studio/var/ri-2.l-L1
END:VEVENT
END:VCALENDAR