BEGIN:VCALENDAR
VERSION:2.0
PRODID:-//eventon.com NONSGML v1.0//EN
CALSCALE:GREGORIAN
METHOD:PUBLISH
BEGIN:VEVENT
UID:69e736fd58f36
DTSTAMP:20260421T083613Z
DTSTART:20260503T220000Z
DTEND:20260504T000000Z
LOCATION:PAINT:LAB 1453 14th Street
SUMMARY:Acrylic/Oil Painting Workshop Sunday
DESCRIPTION:If online registration has closed\,  call the studio @ 310.450.
 9200 🙂 We may still have space available! The adult acrylic/oil worksho
 p is $56.00 plus the cost of canvas (canvas available for purchase in studi
 o). Workshop cost includes easel set up\,  paint\,  brushes\,  apron\,  2 h
 ours of instruction and clean up. ALL[..]\nhttps://paintlab.net/eventon/acr
 ylic-oil-workshop-5/
URL:https://paintlab.net/eventon/acrylic-oil-workshop-5/
END:VEVENT
END:VCALENDAR