BEGIN:VCALENDAR
VERSION:2.0
PRODID:-//eventon.com NONSGML v1.0//EN
CALSCALE:GREGORIAN
METHOD:PUBLISH
BEGIN:VEVENT
UID:69e73b17f2fd4
DTSTAMP:20260421T085343Z
DTSTART:20260608T200000Z
DTEND:20260608T213000Z
LOCATION:PAINT:LAB 1453 14th Street
SUMMARY:Kids Summer Camp - Afternoon Session 1pm - 2:30pm (Single Day)
DESCRIPTION:If online registration has closed\,  give the studio a call ❤
 ️ We may still have space! 310.450.9200&nbsp; We are having Kids 2026 Sum
 mer Art Camp Monday-Friday June 8th &#8211; August 20th!&nbsp; 🎨✨ Plea
 se pack lunch/snack/water accordingly if booking a double session or full-d
 ay camp! Includes all Materials. Please see daily[..]\nhttps://paintlab.net
 /eventon/kids-summer-camp-afternoon-session-1pm-230pm-single-session-2/
URL:https://paintlab.net/eventon/kids-summer-camp-afternoon-session-1pm-230pm-single-session-2/
END:VEVENT
END:VCALENDAR