BEGIN:VCALENDAR
VERSION:2.0
PRODID:-//eventon.com NONSGML v1.0//EN
CALSCALE:GREGORIAN
METHOD:PUBLISH
BEGIN:VEVENT
UID:69e73c3ad889f
DTSTAMP:20260421T085834Z
DTSTART:20260213T230000Z
DTEND:20260214T000000Z
LOCATION:PAINT:LAB 1453 14th Street
SUMMARY:Pre-K Painting Workshop
DESCRIPTION:Online registration closes 24 hours before the workshop. If onl
 ine registration has closed\,  give the studio a call at (310) 450-9200. We
  may still have space available! Pre-K Painting is designed to teach toddle
 rs (age 2-5) the fundamentals of art\,  with your engaging presence if you 
 choose. We focus on[..]\nhttps://paintlab.net/eventon/pre-k-painting-worksh
 op-2/var/ri-23.l-L1
URL:https://paintlab.net/eventon/pre-k-painting-workshop-2/var/ri-23.l-L1
END:VEVENT
END:VCALENDAR